BEGIN:VCALENDAR
VERSION:2.0
PRODID:-//pretix//pretix.eu//
BEGIN:VTIMEZONE
TZID:Europe/Berlin
BEGIN:STANDARD
DTSTART:20001029T040000
RRULE:FREQ=YEARLY;BYDAY=-1SU;BYMONTH=10
TZNAME:CET
TZOFFSETFROM:+0200
TZOFFSETTO:+0100
END:STANDARD
BEGIN:DAYLIGHT
DTSTART:20000326T030000
RRULE:FREQ=YEARLY;BYDAY=-1SU;BYMONTH=3
TZNAME:CEST
TZOFFSETFROM:+0100
TZOFFSETTO:+0200
END:DAYLIGHT
END:VTIMEZONE
BEGIN:VEVENT
UID:pretix-dasniko-kc-ext-4808117@tickets.n-k.de
DTSTART;TZID=Europe/Berlin:20260626T090000
DTEND;TZID=Europe/Berlin:20260626T163000
DESCRIPTION:Tickets: https://tickets.n-k.de/kc-ext/4808117/\nVeranstalter: 
 Niko Köbler IT-Beratung
DTSTAMP:20260419T134857Z
LOCATION:Online / Zoom
SUMMARY:Customizing KEYCLOAK mit Erweiterungen
END:VEVENT
END:VCALENDAR
